BEGIN:VCALENDAR
VERSION:2.0
PRODID:-//Weisse Fräck - ECPv6.15.20//NONSGML v1.0//EN
CALSCALE:GREGORIAN
METHOD:PUBLISH
X-WR-CALNAME:Weisse Fräck
X-ORIGINAL-URL:https://weissefraeck.de
X-WR-CALDESC:Veranstaltungen für Weisse Fräck
REFRESH-INTERVAL;VALUE=DURATION:PT1H
X-Robots-Tag:noindex
X-PUBLISHED-TTL:PT1H
BEGIN:VTIMEZONE
TZID:Europe/Berlin
BEGIN:DAYLIGHT
TZOFFSETFROM:+0100
TZOFFSETTO:+0200
TZNAME:CEST
DTSTART:20260329T010000
END:DAYLIGHT
BEGIN:STANDARD
TZOFFSETFROM:+0200
TZOFFSETTO:+0100
TZNAME:CET
DTSTART:20261025T010000
END:STANDARD
BEGIN:DAYLIGHT
TZOFFSETFROM:+0100
TZOFFSETTO:+0200
TZNAME:CEST
DTSTART:20270328T010000
END:DAYLIGHT
BEGIN:STANDARD
TZOFFSETFROM:+0200
TZOFFSETTO:+0100
TZNAME:CET
DTSTART:20271031T010000
END:STANDARD
BEGIN:DAYLIGHT
TZOFFSETFROM:+0100
TZOFFSETTO:+0200
TZNAME:CEST
DTSTART:20280326T010000
END:DAYLIGHT
BEGIN:STANDARD
TZOFFSETFROM:+0200
TZOFFSETTO:+0100
TZNAME:CET
DTSTART:20281029T010000
END:STANDARD
END:VTIMEZONE
BEGIN:VEVENT
DTSTART;TZID=Europe/Berlin:20270122T193300
DTEND;TZID=Europe/Berlin:20270122T193300
DTSTAMP:20260424T203251
CREATED:20260402T184709Z
LAST-MODIFIED:20260402T185025Z
UID:31852-1800646380-1800646380@weissefraeck.de
SUMMARY:Damensitzung
DESCRIPTION:Einlass ab 18.30 Uhr • Beginn Programm um 19.33 Uhr\n\nWir sehen Euch gern in närrisch-bunter Verkleidung!\n\nca. 4 1/2 Stunden närrisches Programm mit Musik – Vortrag – Tanz – Showacts auf einer der größten Bühnen der Region!\nNach dem Programm geht es anschließend zur großen Fastnachts-Party in die längste Sekt- und Cocktailbar der ganzen Stadt mit Live-DJ bis 3 Uhr morgens!\nKartenbestellung ist erst möglich ab 11.11.2026 – 11:11 Uhr über das dann freigeschaltete Online-Formular!\nWichtig: diese Seite ist dann nicht mehr verfügbar! Es muss ein erneuter Aufruf der Veranstaltung über unsere Website erfolgen\, damit der neue Link zum Bestellformular aktiviert wird! \nKartenpreis: 18 EUR/Karte \nCountdownBIS ZUM START DES VORVERKAUFS0000Days00Hrs00Min00Sec
URL:https://weissefraeck.de/event/damensitzung/
LOCATION:Vfl-Jahnhalle\, Hochstraße 25-27 / VfL-Jahnhalle\, 55545 Bad Kreuznach
CATEGORIES:Sitzungen
ATTACH;FMTTYPE=image/jpeg:https://weissefraeck.de/wp-content/uploads/2025/02/d11_2025.jpg
ORGANIZER;CN="Weisse Fr%C3%A4ck (Sitzungen)":MAILTO:karten@weisse-fraeck.de
END:VEVENT
END:VCALENDAR