BEGIN:VCALENDAR
VERSION:2.0
PRODID:-//Weisse Fräck - ECPv6.15.20//NONSGML v1.0//EN
CALSCALE:GREGORIAN
METHOD:PUBLISH
X-ORIGINAL-URL:https://weissefraeck.de
X-WR-CALDESC:Veranstaltungen für Weisse Fräck
REFRESH-INTERVAL;VALUE=DURATION:PT1H
X-Robots-Tag:noindex
X-PUBLISHED-TTL:PT1H
BEGIN:VTIMEZONE
TZID:Europe/Berlin
BEGIN:DAYLIGHT
TZOFFSETFROM:+0100
TZOFFSETTO:+0200
TZNAME:CEST
DTSTART:20250330T010000
END:DAYLIGHT
BEGIN:STANDARD
TZOFFSETFROM:+0200
TZOFFSETTO:+0100
TZNAME:CET
DTSTART:20251026T010000
END:STANDARD
BEGIN:DAYLIGHT
TZOFFSETFROM:+0100
TZOFFSETTO:+0200
TZNAME:CEST
DTSTART:20260329T010000
END:DAYLIGHT
BEGIN:STANDARD
TZOFFSETFROM:+0200
TZOFFSETTO:+0100
TZNAME:CET
DTSTART:20261025T010000
END:STANDARD
BEGIN:DAYLIGHT
TZOFFSETFROM:+0100
TZOFFSETTO:+0200
TZNAME:CEST
DTSTART:20270328T010000
END:DAYLIGHT
BEGIN:STANDARD
TZOFFSETFROM:+0200
TZOFFSETTO:+0100
TZNAME:CET
DTSTART:20271031T010000
END:STANDARD
END:VTIMEZONE
BEGIN:VEVENT
DTSTART;TZID=Europe/Berlin:20261114T111100
DTEND;TZID=Europe/Berlin:20261114T133300
DTSTAMP:20260424T163536
CREATED:20260402T183733Z
LAST-MODIFIED:20260402T183733Z
UID:31872-1794654660-1794663180@weissefraeck.de
SUMMARY:Kampagneneröffnung VKN
DESCRIPTION:Die zentrale Auftaktveranstaltung zur närrischen 5. Jahreszeit in Badkreuznach\, veranstaltet durch den Verein Kreiznacher Narrefahrt e.V.\, findet traditionell am Rathaus und auf dem Kornmarkt statt. \nNach der Verhaftung der Stadtspitze und Eroberung der (leider meist leeren) Stadtkasse übernehmen die Närrinnen und Narren das Regiment bis Aschermittwoch. \nEin buntes Programm mit Musik und Tanz läutet die aktive Phase der närrischen Zeit ein. Alle sind herzlich eingeladen! \nDer Eintritt ist frei.
URL:https://weissefraeck.de/event/eroeffnung-vkn-2026/
LOCATION:Kornmarkt\, Bad Kreuznach\, Kornmarkt\, Bad Kreuznach\, 55543\, Deutschland
CATEGORIES:öffentlich
ATTACH;FMTTYPE=image/gif:https://weissefraeck.de/wp-content/uploads/2017/11/narrefahrt.gif
END:VEVENT
BEGIN:VEVENT
DTSTART;TZID=Europe/Berlin:20261114T181100
DTEND;TZID=Europe/Berlin:20261114T181100
DTSTAMP:20260424T163536
CREATED:20260402T181823Z
LAST-MODIFIED:20260402T183151Z
UID:31848-1794679860-1794679860@weissefraeck.de
SUMMARY:Kampagneneröffnung
DESCRIPTION:Wir feiern unsere traditionelle Kampagneneröffnung – wieder in der Kaiserremise im Bonnheimer Hof. \nEinlass: 18.00 Uhr – dann Essen – Programmstart: ca. 19.11 Uhr \nMit Musik\, Vorträgen und allerlei Geschichten starten wir in die neue Kampagne und werden zum Beginn unsere Fastnacht „feierlich erwecken“.\nIm Rahmen dieser Veranstaltung führen wir auch unsere neuen Damen- und Herrenelferräte in ihr Amt ein. \nDer Eintritt ist frei. \nDie Anmeldung ist nach dem Jahrmarkts-Frühschoppen 2026 möglich!
URL:https://weissefraeck.de/event/eroeffnung-2026/
LOCATION:Bonnheimer Hof\, Hackenheim\, Binger Weg\, Hackenheim\, 55546\, Deutschland
CATEGORIES:öffentlich
ATTACH;FMTTYPE=image/webp:https://weissefraeck.de/wp-content/uploads/2026/04/2026-02-21_Kampagnenbeerdigung_0280.webp
ORGANIZER;CN="Weisse Fr%C3%A4ck im VfL 1848 Bad Kreuznach e.V.":MAILTO:helau@weisse-fraeck.de
END:VEVENT
END:VCALENDAR