BEGIN:VCALENDAR
VERSION:2.0
PRODID:-//Weisse Fräck - ECPv6.15.20//NONSGML v1.0//EN
CALSCALE:GREGORIAN
METHOD:PUBLISH
X-ORIGINAL-URL:https://weissefraeck.de
X-WR-CALDESC:Veranstaltungen für Weisse Fräck
REFRESH-INTERVAL;VALUE=DURATION:PT1H
X-Robots-Tag:noindex
X-PUBLISHED-TTL:PT1H
BEGIN:VTIMEZONE
TZID:Europe/Berlin
BEGIN:DAYLIGHT
TZOFFSETFROM:+0100
TZOFFSETTO:+0200
TZNAME:CEST
DTSTART:20260329T010000
END:DAYLIGHT
BEGIN:STANDARD
TZOFFSETFROM:+0200
TZOFFSETTO:+0100
TZNAME:CET
DTSTART:20261025T010000
END:STANDARD
BEGIN:DAYLIGHT
TZOFFSETFROM:+0100
TZOFFSETTO:+0200
TZNAME:CEST
DTSTART:20270328T010000
END:DAYLIGHT
BEGIN:STANDARD
TZOFFSETFROM:+0200
TZOFFSETTO:+0100
TZNAME:CET
DTSTART:20271031T010000
END:STANDARD
BEGIN:DAYLIGHT
TZOFFSETFROM:+0100
TZOFFSETTO:+0200
TZNAME:CEST
DTSTART:20280326T010000
END:DAYLIGHT
BEGIN:STANDARD
TZOFFSETFROM:+0200
TZOFFSETTO:+0100
TZNAME:CET
DTSTART:20281029T010000
END:STANDARD
END:VTIMEZONE
BEGIN:VEVENT
DTSTART;TZID=Europe/Berlin:20270116T191100
DTEND;TZID=Europe/Berlin:20270116T191100
DTSTAMP:20260424T191631
CREATED:20260402T184114Z
LAST-MODIFIED:20260402T184114Z
UID:31850-1800126660-1800126660@weissefraeck.de
SUMMARY:Prunksitzung
DESCRIPTION:Einlass ab 18.00 Uhr • Beginn Programm um 19.11 Uhr\n\nWir sehen Euch gern in närrisch-bunter Verkleidung!\n\nca. 4 1/2 Stunden närrisches Programm mit Musik – Vortrag – Tanz – Showacts auf einer der größten Bühnen der Region!\nNach dem Programm geht es anschließend zur großen Fastnachts-Party in die längste Sekt- und Cocktailbar der ganzen Stadt mit Live-DJ bis 3 Uhr morgens!\n\nDie Kartenbestellung ist ab Jahrmarktssonntag 2026 möglich!\nKartenbestellung\n\n  \n\n\n\n Dein Name (Pflichtfeld)\n \n \n Deine E-Mail-Adresse (Pflichtfeld)\n \n \n Deine Telefonnummer (für eventuelle Rückfragen) (Pflichtfeld)\n \n \n\nDu bestellst Karten für die  Prunksitzung am 16.01.2027\nDer Kartenpreis beträgt 18 EUR pro Karte.\n \n Kartenanzahl: (Pflichtfeld)\n \n \n\n	\n	 \n\nHinweis zum Datenschutz: Du bist damit einverstanden\, dass Deine Daten zur Bearbeitung der Bestellung verwendet werden. Hinweis: Diese Einwilligung kannst Du jederzeit für die Zukunft widerrufen. Detaillierte Informationen hierzu und zum Umgang mit Nutzerdaten erhalten sind nachlesbar in unserer Datenschutzerklärung\n \nBedingungen zum Kartenverkauf: Freie Platzwahl\, keine reservierten/nummerierten Sitzplätze. Keine Rückgabe oder Rückerstattung des Kartenpreises (außer bei Absage der Veranstaltung). Vorauskasse gemäß separat gesendeter Zahlungsaufforderung.\n \n\n Δ ×
URL:https://weissefraeck.de/event/prunksitzung1-2027/
LOCATION:Vfl-Jahnhalle\, Hochstraße 25-27 / VfL-Jahnhalle\, 55545 Bad Kreuznach
CATEGORIES:Sitzungen
ATTACH;FMTTYPE=image/jpeg:https://weissefraeck.de/wp-content/uploads/2024/01/WF_1_Sitzung_20_01_24_Simon0036-scaled-e1705868164113.jpg
ORGANIZER;CN="Weisse Fr%C3%A4ck (Sitzungen)":MAILTO:karten@weisse-fraeck.de
END:VEVENT
BEGIN:VEVENT
DTSTART;TZID=Europe/Berlin:20270117T151100
DTEND;TZID=Europe/Berlin:20270117T173300
DTSTAMP:20260424T191631
CREATED:20260402T184221Z
LAST-MODIFIED:20260402T184221Z
UID:31851-1800198660-1800207180@weissefraeck.de
SUMMARY:Ehrungs-Kreppelkaffee 2027
DESCRIPTION:In einem großen Verein wie den Weisse Fräck sind jedes Jahr zahlreiche Aktive für besondere Verdienste und langjähriges Engagement zu ehren. Wir laden zu unserer internen Ehrungs-Veranstaltung ein und verbringen einen gemütlichen und lustigen Nachmittag bei Kaffee und Kreppeln miteinander. \nAnmeldung zum Ehrungs-Kreppelkaffee\n\n\n  \n\n\n\n Dein Name (Pflichtfeld)\n \n \n Deine E-Mail-Adresse (Pflichtfeld)\n \n \n Deine Telefonnummer (für eventuelle Rückfragen) (Pflichtfeld)\n \n \n\nDu meldest Dich an für das  Ehrungs-Kreppelkaffee am 25.01.2026\nDer Eintritt ist frei.\n \n Personenzahl: (Pflichtfeld)\n \n \nHinweis zum Datenschutz: Du bist damit einverstanden\, dass Deine Daten zur Bearbeitung Deines Anliegens verwendet werden. Hinweis: Diese Einwilligung kannst Du jederzeit für die Zukunft widerrufen. Detaillierte Informationen hierzu und zum Umgang mit Nutzerdaten veröffentlichen wir in unserer Datenschutzerklärung.\n \n\n Δ ×
URL:https://weissefraeck.de/event/ehrungs-kreppelkaffee-2027/
LOCATION:Vfl-Jahnhalle\, Hochstraße 25-27 / VfL-Jahnhalle\, 55545 Bad Kreuznach
CATEGORIES:öffentlich,WF-intern
ATTACH;FMTTYPE=image/png:https://weissefraeck.de/wp-content/uploads/2026/01/WF-Elemente_Key-Visual-Jugend-WF-scaled.png
ORGANIZER;CN="Weisse Fr%C3%A4ck im VfL 1848 Bad Kreuznach e.V.":MAILTO:helau@weisse-fraeck.de
END:VEVENT
BEGIN:VEVENT
DTSTART;TZID=Europe/Berlin:20270122T193300
DTEND;TZID=Europe/Berlin:20270122T193300
DTSTAMP:20260424T191631
CREATED:20260402T184709Z
LAST-MODIFIED:20260402T185025Z
UID:31852-1800646380-1800646380@weissefraeck.de
SUMMARY:Damensitzung
DESCRIPTION:Einlass ab 18.30 Uhr • Beginn Programm um 19.33 Uhr\n\nWir sehen Euch gern in närrisch-bunter Verkleidung!\n\nca. 4 1/2 Stunden närrisches Programm mit Musik – Vortrag – Tanz – Showacts auf einer der größten Bühnen der Region!\nNach dem Programm geht es anschließend zur großen Fastnachts-Party in die längste Sekt- und Cocktailbar der ganzen Stadt mit Live-DJ bis 3 Uhr morgens!\nKartenbestellung ist erst möglich ab 11.11.2026 – 11:11 Uhr über das dann freigeschaltete Online-Formular!\nWichtig: diese Seite ist dann nicht mehr verfügbar! Es muss ein erneuter Aufruf der Veranstaltung über unsere Website erfolgen\, damit der neue Link zum Bestellformular aktiviert wird! \nKartenpreis: 18 EUR/Karte \nCountdownBIS ZUM START DES VORVERKAUFS0000Days00Hrs00Min00Sec
URL:https://weissefraeck.de/event/damensitzung/
LOCATION:Vfl-Jahnhalle\, Hochstraße 25-27 / VfL-Jahnhalle\, 55545 Bad Kreuznach
CATEGORIES:Sitzungen
ATTACH;FMTTYPE=image/jpeg:https://weissefraeck.de/wp-content/uploads/2025/02/d11_2025.jpg
ORGANIZER;CN="Weisse Fr%C3%A4ck (Sitzungen)":MAILTO:karten@weisse-fraeck.de
END:VEVENT
BEGIN:VEVENT
DTSTART;TZID=Europe/Berlin:20270124T143300
DTEND;TZID=Europe/Berlin:20270124T171100
DTSTAMP:20260424T191631
CREATED:20260402T185758Z
LAST-MODIFIED:20260402T185924Z
UID:31855-1800801180-1800810660@weissefraeck.de
SUMMARY:Kindermaskenball
DESCRIPTION:Spiele\, Spaß und Tanz für Kinder – im fastnachtlichen Mix in der VfL-Jahnhalle! Dauer: ca. 3 Stunden\n\n\n\nWir freuen uns über eine volle VfL-Jahnhalle mit vielen fröhlichen\, bunt verkleideten und feiernden Kindern!
URL:https://weissefraeck.de/event/kindermaskenball-2027/
LOCATION:Vfl-Jahnhalle\, Hochstraße 25-27 / VfL-Jahnhalle\, 55545 Bad Kreuznach
CATEGORIES:Sitzungen
ATTACH;FMTTYPE=image/jpeg:https://weissefraeck.de/wp-content/uploads/2022/06/Kindermaskenball-2020_030-scaled.jpg
ORGANIZER;CN="Weisse Fr%C3%A4ck (Sitzungen)":MAILTO:karten@weisse-fraeck.de
END:VEVENT
BEGIN:VEVENT
DTSTART;TZID=Europe/Berlin:20270129T191100
DTEND;TZID=Europe/Berlin:20270129T235900
DTSTAMP:20260424T191631
CREATED:20260402T191047Z
LAST-MODIFIED:20260402T191400Z
UID:31857-1801249860-1801267140@weissefraeck.de
SUMMARY:Hallenbeben No. 12 (Jugendsitzung)
DESCRIPTION:Starke Musik\, rasanter Tanz und auch ein paar kurze Vorträge\nNach dem ca. 3-stündigen Programm ab in die Bar zum Tanzen\, Singen\, Party machen … bis 00:00 Uhr\nEintritt ab 14 Jahren bis max. 24 Jahren / Einlass ab 18.00 Uhr (Sicherheitskontrolle!)\nHinweis: Unsere Veranstaltungen dienen der „Brauchtumspflege“. Daher können auch Jugendliche (14-18 Jahre) die Veranstaltung bis 00.00 Uhr besuchen – ohne Muttipass oder ähnliches. (Grundlage: §5 Abs. 2 Jugendschutzgesetz) \n \nWichtiger Hinweis: bitte zur Einlasskontrolle ein offizielles Ausweisdokument mit BILD und GEBURTSTDATUM bereithalten (Personalausweis\, Führerschein\, Krankenkassenkarte… keine Schülerausweise o.ä.!)\nWenn bei der Einlasskontrolle kein Bild-Ausweis vorgezeigt werden kann\, wird der Eintritt verwehrt\, Karten werden nicht zurückgenommen oder erstattet!
URL:https://weissefraeck.de/event/hallenbeben-2027/
LOCATION:Vfl-Jahnhalle\, Hochstraße 25-27 / VfL-Jahnhalle\, 55545 Bad Kreuznach
CATEGORIES:Sitzungen
ATTACH;FMTTYPE=image/jpeg:https://weissefraeck.de/wp-content/uploads/2024/02/IMG_0617.jpeg
ORGANIZER;CN="Weisse Fr%C3%A4ck (Hallenbeben)":MAILTO:hallenbeben@weisse-fraeck.de
END:VEVENT
BEGIN:VEVENT
DTSTART;TZID=Europe/Berlin:20270130T191100
DTEND;TZID=Europe/Berlin:20270130T191100
DTSTAMP:20260424T191631
CREATED:20260402T191611Z
LAST-MODIFIED:20260402T191611Z
UID:31858-1801336260-1801336260@weissefraeck.de
SUMMARY:Prunksitzung
DESCRIPTION:Einlass ab 18.00 Uhr • Beginn Programm um 19.11 Uhr\n\nWir sehen Euch gern in närrisch-bunter Verkleidung!\n\nca. 4 1/2 Stunden närrisches Programm mit Musik – Vortrag – Tanz – Showacts auf einer der größten Bühnen der Region!\nNach dem Programm geht es anschließend zur großen Fastnachts-Party in die längste Sekt- und Cocktailbar der ganzen Stadt mit Live-DJ bis 3 Uhr morgens!\n\nDer Kartenverkauf startet ab Jahrmarktssonntag 2026!
URL:https://weissefraeck.de/event/prunksitzung2-2027/
LOCATION:Vfl-Jahnhalle\, Hochstraße 25-27 / VfL-Jahnhalle\, 55545 Bad Kreuznach
CATEGORIES:Sitzungen
ATTACH;FMTTYPE=image/jpeg:https://weissefraeck.de/wp-content/uploads/2024/02/IMG_0618-scaled.jpeg
ORGANIZER;CN="Weisse Fr%C3%A4ck (Sitzungen)":MAILTO:karten@weisse-fraeck.de
END:VEVENT
END:VCALENDAR